BEGIN:VCALENDAR
VERSION:2.0
PRODID:-//Blue Elephants - ECPv6.6.4//NONSGML v1.0//EN
CALSCALE:GREGORIAN
METHOD:PUBLISH
X-WR-CALNAME:Blue Elephants
X-ORIGINAL-URL:https://blue-elephants.hu
X-WR-CALDESC:Events for Blue Elephants
REFRESH-INTERVAL;VALUE=DURATION:PT1H
X-Robots-Tag:noindex
X-PUBLISHED-TTL:PT1H
BEGIN:VTIMEZONE
TZID:UTC
BEGIN:STANDARD
TZOFFSETFROM:+0000
TZOFFSETTO:+0000
TZNAME:UTC
DTSTART:20240101T000000
END:STANDARD
END:VTIMEZONE
BEGIN:VEVENT
DTSTART;TZID=UTC:20241030T160000
DTEND;TZID=UTC:20241030T180000
DTSTAMP:20260422T015928
CREATED:20240930T191220Z
LAST-MODIFIED:20240930T191220Z
UID:989126-1730304000-1730311200@blue-elephants.hu
SUMMARY:Családi tökfargó verseny
DESCRIPTION:
URL:https://blue-elephants.hu/event/csaladi-tokfargo-verseny
LOCATION:Kék Fáni Családi Bölcsőde\, Bartók Béla út 86.\, Budapest\, 1115\, Hungary
END:VEVENT
END:VCALENDAR